BEGIN:VCALENDAR
VERSION:2.0
PRODID:-//eventon.com NONSGML v1.0//EN
CALSCALE:GREGORIAN
METHOD:PUBLISH
BEGIN:VEVENT
UID:69ed886e126ff
DTSTAMP:20260426T033718Z
DTSTART:20241119T080000Z
DTEND:20241121T170000Z
LOCATION:Messe Bremen
SUMMARY:Space Tech Expo Europe
DESCRIPTION:The free-to-attend Space Tech Expo Europe is Europe’s largest
  B2B event for the space industry. This year is set to continue that trajec
 tory\,  as an additional hall has been added for you to explore. Get ready 
 to ignite your network and engage with 700+ exhibitors from startups to top
  industry[..]\nhttps://3dadept.com/events/space-tech-expo-europe/
URL:https://3dadept.com/events/space-tech-expo-europe/
END:VEVENT
END:VCALENDAR