BEGIN:VCALENDAR
VERSION:2.0
PRODID:-//eventon.com NONSGML v1.0//EN
CALSCALE:GREGORIAN
METHOD:PUBLISH
BEGIN:VEVENT
UID:69e9b76bb3933
DTSTAMP:20260423T060843Z
DTSTART:20240929T070000Z
DTEND:20241002T160000Z
LOCATION:
SUMMARY:Euro PM2024 Congress & Exhibition
DESCRIPTION:The Euro PM2024 Congress &amp; Exhibition is taking place from 
 29 September to 2nd October 2024 at at the MalmöMässan in Malmö\,  Swede
 n. The Euro PM2024 Exhibition\,  held from Monday to Wednesday\,  will take
  place alongside the Congress. With exhibition sales already open\,  EPMA a
 re welcoming enquiries to fill the[..]\nhttps://3dadept.com/events/euro-pm2
 024-congress-exhibition/
URL:https://3dadept.com/events/euro-pm2024-congress-exhibition/
END:VEVENT
END:VCALENDAR