BEGIN:VCALENDAR
VERSION:2.0
PRODID:-//eventon.com NONSGML v1.0//EN
CALSCALE:GREGORIAN
METHOD:PUBLISH
BEGIN:VEVENT
UID:69e9008d678d3
DTSTAMP:20260422T170829Z
DTSTART:20231115T080600Z
DTEND:20231116T160600Z
LOCATION:
SUMMARY:Advanced Manufacturing Madrid – The future of advanced materials and manufacturing technologies
DESCRIPTION:MetalMadrid\,  Composites Madrid and Robomática – Part of Ad
 vanced Manufacturing Madrid are the leading events in industrial innovation
  that every year\,  and in just 2 days\,  present the latest advances and n
 ews for the industry of today and tomorrow. With over 12\, 000 expected att
 endees\,  the Advanced Manufacturing show is an[..]\nhttps://3dadept.com/ev
 ents/advanced-manufacturing-madrid-the-future-of-advanced-materials-and-man
 ufacturing-technologies/
URL:https://3dadept.com/events/advanced-manufacturing-madrid-the-future-of-advanced-materials-and-manufacturing-technologies/
END:VEVENT
END:VCALENDAR