BEGIN:VCALENDAR
VERSION:2.0
PRODID:-//eventon.com NONSGML v1.0//EN
CALSCALE:GREGORIAN
METHOD:PUBLISH
BEGIN:VEVENT
UID:69e5c7e07609b
DTSTAMP:20260420T062952Z
DTSTART:20210727T194500Z
DTEND:20210729T053000Z
LOCATION:Hilton Tampa Downtown 211 N Tampa St\,  Tampa\,  FL 33602\,  États-Unis
SUMMARY:5th Annual Military Additive Manufacturing Summit
DESCRIPTION:Worldwide spending on 3D Printing is projected to reach over $2
 2 Billion by 2022\,  with two-thirds of that spending being devoted to 3D p
 rinters and materials. DSI’s 2021 MilAM Summit will focus on the latest i
 nnovations in 3D printing technologies &amp; the push across the DoD to rap
 idly supply durable\, [..]\nhttps://3dadept.com/events/5th-annual-military-
 additive-manufacturing-summit/
URL:https://3dadept.com/events/5th-annual-military-additive-manufacturing-summit/
END:VEVENT
END:VCALENDAR